BEGIN:VCALENDAR
VERSION:2.0
PRODID:icalendar-ruby
CALSCALE:GREGORIAN
METHOD:PUBLISH
BEGIN:VEVENT
DTSTAMP:20260422T074659Z
UID:9-1440490@faithtemple.org
DTSTART:20261015T000000Z
DTEND:20261015T010000Z
CLASS:PUBLIC
CREATED:20260421T191054
DESCRIPTION:
LAST-MODIFIED:20260421T191054
LOCATION:1200 Patton Street\, Sulphur\, LA 70665
SUMMARY:Traditional Worship
URL;VALUE=URI:https://faithtemple.org/events/traditional-worship/2026-10-14
ATTACH;FILENAME=hymn-book.jpg;FMTTYPE=image/jpeg:https://dq5pwpg1q8ru0.clou
 dfront.net/2021/02/18/12/20/38/f642f90a-0380-4710-a8b0-95e8836e0a9e/hymn-b
 ook.jpg
END:VEVENT
END:VCALENDAR
